BEGIN:VCALENDAR
PRODID:-//Microsoft Corporation//Outlook 12.0 MIMEDIR//EN
VERSION:2.0
CALSCALE:GREGORIAN
BEGIN:VEVENT
UID: acb95524-3462-4834-919f-aadfbd98c687
SUMMARY:Euroopa Noortenädal
DTSTAMP:20260427T000000
DTSTART:20260427T000000
DTEND:20260430T235900
LOCATION:Koolimaja
DESCRIPTION: <p><strong>Link: </strong>https://audru.edu.ee/et/sundmuste-kalender/euroopa-noortenadal</p><p><strong>Hind: </strong></p>
STATUS:CONFIRMED
SEQUENCE:3
X-ALT-DESC;FMTTYPE=text/html:<p><strong>Link: </strong>https://audru.edu.ee/et/sundmuste-kalender/euroopa-noortenadal</p><p><strong>Hind: </strong></p>
X-MICROSOFT-CDO-BUSYSTATUS:OOF
X-MICROSOFT-CDO-IMPORTANCE:1
X-MICROSOFT-DISALLOW-COUNTER:FALSE
X-MS-OLK-ALLOWEXTERNCHECK:TRUE
X-MS-OLK-CONFTYPE:0
X-MICROSOFT-CDO-ALLDAYEVENT:
X-MICROSOFT-MSNCALENDAR-ALLDAYEVENT:
END:VEVENT
END:VCALENDAR